BEGIN:VCALENDAR
VERSION:2.0
PRODID:-//iQuest Meta Solutions - ECPv6.9.0//NONSGML v1.0//EN
CALSCALE:GREGORIAN
METHOD:PUBLISH
X-ORIGINAL-URL:https://www.iquestindia.com
X-WR-CALDESC:Events for iQuest Meta Solutions
REFRESH-INTERVAL;VALUE=DURATION:PT1H
X-Robots-Tag:noindex
X-PUBLISHED-TTL:PT1H
BEGIN:VTIMEZONE
TZID:UTC
BEGIN:STANDARD
TZOFFSETFROM:+0000
TZOFFSETTO:+0000
TZNAME:UTC
DTSTART:20240101T000000
END:STANDARD
END:VTIMEZONE
BEGIN:VEVENT
DTSTART;VALUE=DATE:20240412
DTEND;VALUE=DATE:20240429
DTSTAMP:20260423T195246
CREATED:20230723T053400Z
LAST-MODIFIED:20230723T053446Z
UID:5570-1712880000-1714348799@www.iquestindia.com
SUMMARY:Everest Base Camp Trekking Expedition\, 2024
DESCRIPTION:We Plan to organiza The world Famous and one of the most Spectacular Himalayan Expeditions Everest Base Camp \, in the month of April 2024\, \nDates and finer details will be announced in this space soon \nif interested keep watching this space\, or contact Sunand Sampath at tosunand@gmail.com \n 
URL:https://www.iquestindia.com/event/everest-base-camp-trekking-expedition-2024/
END:VEVENT
END:VCALENDAR